BEGIN:VCALENDAR
VERSION:2.0
PRODID:icalendar-ruby
CALSCALE:GREGORIAN
METHOD:PUBLISH
BEGIN:VEVENT
DTSTAMP:20260422T214829Z
UID:5-990066@sjbwestseattle.org
DTSTART:20261011T173000Z
DTEND:20261011T183000Z
CLASS:PUBLIC
CREATED:20260422T140119
DESCRIPTION:Sunday Worship at 10:30am\nService with Holy Eucharist\, music\
 , and the SJB choir.\nChildren's Chapel and Nursery are offered at the 10:
 30am Service.\nCoffee Hour Follows the Service in the Parish Hall
LAST-MODIFIED:20260422T140119
LOCATION:Nave
SUMMARY:Sunday Worship Eucharist with Music
URL;VALUE=URI:https://sjbwestseattle.org/events/sunday-worship-eucharist-wi
 th-music/2026-10-11
ATTACH;FILENAME=14.png;FMTTYPE=image/png:https://dq5pwpg1q8ru0.cloudfront.n
 et/2024/11/27/22/56/13/697d62da-f0c2-42a9-a15c-ed4b3c9d66c7/14.png
END:VEVENT
END:VCALENDAR
