BEGIN:VCALENDAR
VERSION:2.0
PRODID:icalendar-ruby
CALSCALE:GREGORIAN
METHOD:PUBLISH
BEGIN:VEVENT
DTSTAMP:20260423T152551Z
UID:35-994145@sjbwestseattle.org
DTSTART:20260912T153000Z
DTEND:20260912T163000Z
CLASS:PUBLIC
CREATED:20260423T080958
DESCRIPTION:Al-Anon AFG Meeting\n"If you have been affected by someone else
 ’s drinking you have found the right place."\nEnter meeting at SW Hanfor
 d and 42nd Ave SW
LAST-MODIFIED:20260423T080958
LOCATION:Parish Hall
SUMMARY:Al-Anon 
URL;VALUE=URI:https://sjbwestseattle.org/events/al-anon/2026-09-12
ATTACH;FILENAME=3.png;FMTTYPE=image/png:https://dq5pwpg1q8ru0.cloudfront.ne
 t/2024/11/27/22/53/01/4b6db2d8-065e-4039-9a72-0f6226c9c853/3.png
END:VEVENT
END:VCALENDAR
